BEGIN:VCALENDAR
VERSION:2.0
PRODID:-//My Community Diary//iCal Event//EN
CALSCALE:GREGORIAN
METHOD:PUBLISH
BEGIN:VEVENT
UID:7d10eff8-70dd-45d4-878e-c6252f93a975
DTSTAMP:20260422T003004Z
DTSTART;TZID=AUS Eastern Standard Time:20260427T080000
DTEND;TZID=AUS Eastern Standard Time:20260427T150000
SUMMARY:Move and Groove @ Mordihouse
DESCRIPTION:Taking expressions in interest\n\nDance Workshop options\n\nSit and Groove\n\nFreestyle Boogie\n\nLearn a Dance Routine\n
LOCATION:Mordialloc Neighbourhood House\, Mordialloc VIC 3195\, VIC\, 3195
END:VEVENT
END:VCALENDAR
