BEGIN:VCALENDAR
VERSION:2.0
PRODID:-//My Community Diary//iCal Event//EN
CALSCALE:GREGORIAN
METHOD:PUBLISH
BEGIN:VEVENT
UID:43dbc199-faa6-43a7-8f1c-f20c8d3eaae2
DTSTAMP:20260424T083940Z
DTSTART;TZID=E. Australia Standard Time:20261107T080000
DTEND;TZID=E. Australia Standard Time:20261107T140000
SUMMARY:Jacaranda Day 2026
DESCRIPTION:Jacaranda Day is a community festival run and facilitated by the Rosalie Historical Society.\n\nThe Goombungee Jacaranda Day Festival is a vibrant street celebration that showcases the heart and soul of this charming country town. Held annually\, the festival brings together locals and visitors to enjoy a day filled with community spirit\, live entertainment\, and family-friendly activities.\n\nStroll through an array of market stalls featuring artisan crafts\, delicious food\, and unique local products. Enjoy live music\, performances\, and interactive entertainment that keep the atmosphere lively throughout the day. A standout tradition of the festival is the beautifully decorated trees\, adorned by local groups and businesses\, transforming the streets into a stunning display of creativity and colour.\n\nAdding to the excitement\, the festival’s much-loved parade brings the community together in a spectacular procession of themed floats\, vintage vehicles\, local groups\, and performers\, creating a true highlight of the day.\n\nWhether you're discovering handmade treasures\, indulging in tasty treats\, or simply soaking up the festive atmosphere\, the Goombungee Jacaranda Day Festival is a must-visit event that captures the essence of country hospitality and celebration.\n
LOCATION:Rosalie Shire Historical Society Inc\, 14 George St Goombungee QLD 4354\, QLD\, 4354
END:VEVENT
END:VCALENDAR
