BEGIN:VCALENDAR
VERSION:2.0
PRODID:-//My Community Diary//iCal Event//EN
CALSCALE:GREGORIAN
METHOD:PUBLISH
BEGIN:VEVENT
UID:2ffdf210-5ae3-4303-ba71-615bf3422b56
DTSTAMP:20260422T013831Z
DTSTART;TZID=E. Australia Standard Time:20260510T100000
DTEND;TZID=E. Australia Standard Time:20260510T123000
SUMMARY:Turkish Mosaic Lamp Class in Toowoomba
DESCRIPTION:You must book before attending. To learn more about this class and to book\, \n                                    please visit ClassBento's website via the 'Access Event' button above.
LOCATION:\, Club Toowoomba(Ballymore Room)\, Hume Street\, South Toowoomba QLD\, QLD\, 4350
END:VEVENT
END:VCALENDAR
