BEGIN:VCALENDAR
VERSION:2.0
PRODID:-//My Community Diary//iCal Event//EN
CALSCALE:GREGORIAN
METHOD:PUBLISH
BEGIN:VEVENT
UID:b0f96d7b-d9d7-4615-b5c0-d176c11cb174
DTSTAMP:20260421T224250Z
DTSTART;TZID=E. Australia Standard Time:20260620T093000
DTEND;TZID=E. Australia Standard Time:20260620T130000
SUMMARY:Fibre Arts Workshop
DESCRIPTION:You must book before attending. To learn more about this class and to book\, \n                                    please visit ClassBento's website via the 'Access Event' button above.
LOCATION:\, 3/20 Ann Street\, Nambour QLD\, QLD\, 4560
END:VEVENT
END:VCALENDAR
