BEGIN:VCALENDAR
VERSION:2.0
PRODID:-//My Community Diary//iCal Event//EN
CALSCALE:GREGORIAN
METHOD:PUBLISH
BEGIN:VEVENT
UID:93845911-c9cd-48c3-bae6-f6cea2bd3515
DTSTAMP:20260422T032310Z
DTSTART;TZID=E. Australia Standard Time:20260531T153000
DTEND;TZID=E. Australia Standard Time:20260531T163000
SUMMARY:Distillery Tour and Tasting
DESCRIPTION:You must book before attending. To learn more about this class and to book\, \n                                    please visit ClassBento's website via the 'Access Event' button above.
LOCATION:\, Tamborine Mountain QLD 4272\, QLD\, 4272
END:VEVENT
END:VCALENDAR
