BEGIN:VCALENDAR
VERSION:2.0
PRODID:-//My Community Diary//iCal Event//EN
CALSCALE:GREGORIAN
METHOD:PUBLISH
BEGIN:VEVENT
UID:5a71ddde-59b6-443b-9187-5c188b3e01d9
DTSTAMP:20260422T013730Z
DTSTART;TZID=E. Australia Standard Time:20260625T120000
DTEND;TZID=E. Australia Standard Time:20260625T133000
SUMMARY:Paint and Spin Wheel Throwing Class
DESCRIPTION:You must book before attending. To learn more about this class and to book\, \n                                    please visit ClassBento's website via the 'Access Event' button above.
LOCATION:\, 161 Long Road\, Tamborine Mountain QLD\, QLD\, 4272
END:VEVENT
END:VCALENDAR
