BEGIN:VCALENDAR
VERSION:2.0
PRODID:-//My Community Diary//iCal Event//EN
CALSCALE:GREGORIAN
METHOD:PUBLISH
BEGIN:VEVENT
UID:927295a6-5593-4a4c-bd6f-2ee19eed99a7
DTSTAMP:20260421T225656Z
DTSTART;VALUE=DATE:20260725
DTEND;VALUE=DATE:20260726
SUMMARY:You Got It! A salute to Roy Orbison
DESCRIPTION:Direct from Las Vegas "You Got It! - A Salute to Roy Orbison" will see audiences mesmerised in an unforgettable live International Concert Experience starring multi award winning artist "The Voice" John Stephan with over 10 million albums sold worldwide that feature his sensational voice and a string of national and international awards.\n\nCome and relive the glory days as singer songwriter John Stephan performs Roy Orbison's iconic hits such as "Pretty Woman"\, "Crying"\, "I Drove All Night"\, "Leah"\, "Working For The Man"\, "Blue Bayou"\, "Only The Lonely"\, "In Dreams"\, "Blue Angel"\, "You Got It"\, "Running Scared" and many many more.\n\nJohn Stephan has toured Japan\, USA and Europe and based himself in the USA starring in his show on the Las Vegas Strip\, Maui & Nashville to thunderous applause and standing ovations.\n\nThis is one hit concert experience not to be missed!\n\nEntry Cost\nAdult $79.95 \nConcession $74.95 \nChild $39.95  - Child under 16\nGroup $69.95  - Group 6+\nMember $74.95 
LOCATION:\, 525 Swift St Albury\, NSW\, 2640\, Albury\, NSW 2640\, NSW\, 2640
END:VEVENT
END:VCALENDAR
