BEGIN:VCALENDAR
VERSION:2.0
PRODID:-//My Community Diary//iCal Event//EN
CALSCALE:GREGORIAN
METHOD:PUBLISH
BEGIN:VEVENT
UID:46cbb3fe-84ab-4a7c-8438-e0df69e93c36
DTSTAMP:20260424T160801Z
DTSTART:20230128T000000Z
DTEND:20230128T235959Z
SUMMARY:Corowa Rotary Federation Festival Fireworks
DESCRIPTION:The Corowa Rotary Club provides a free Firework display for the community on the Australia Day Weekend each year\,  as a part of the Federation Festival Weekend of activities. The event is held at the RSL Park\, enabling many to walk to the venue or see the display from their homes.  \n\nEnjoy a picnic in the park prior to the Fireworks.\n\nEntertainment will be provided by a local DJ. Food and drink stalls welcome.
LOCATION:\, Betterment Parade\, Corowa\, NSW 2646\, NSW\, 2646
RRULE:FREQ=DAILY;INTERVAL=1;UNTIL=20240128T000000Z
END:VEVENT
END:VCALENDAR
