BEGIN:VCALENDAR
VERSION:2.0
PRODID:-//My Community Diary//iCal Event//EN
CALSCALE:GREGORIAN
METHOD:PUBLISH
BEGIN:VEVENT
UID:1ea88f0f-79ad-412e-b0a2-9984b264a1c0
DTSTAMP:20260424T160647Z
DTSTART:20240504T000000Z
DTEND:20240504T235959Z
SUMMARY:Convict 100
DESCRIPTION:Back for its 17th year the Convict 100 is one of Australia's most challenging MTB marathon races following the historic Convict Trail through the Dharug and Yengo National Parks. \n\nThe course features a mix of fast fire trail\, technical rock gardens\,  spectacular ridgeline views\, rocky descents and the infamous kayak bridge. With a 100 kilometre\, 68 kilometre and 44 kilometre distance on offer there is a distance to suit all skill and fitness levels.\n\nEntry Cost\nAll tickets $45 
LOCATION:\, 1 Wharf Street Saint Albans\, Marlow\, NSW 2775\, NSW\, 2775
END:VEVENT
END:VCALENDAR
