BEGIN:VCALENDAR
VERSION:2.0
PRODID:-//My Community Diary//iCal Event//EN
CALSCALE:GREGORIAN
METHOD:PUBLISH
BEGIN:VEVENT
UID:bafd11c6-af7f-4e40-b608-1965356f8a55
DTSTAMP:20260422T021147Z
DTSTART;VALUE=DATE:20260422
DTEND;VALUE=DATE:20260423
SUMMARY:Yes Prime Minister
DESCRIPTION:Yes Prime Minister comes to Town! Dinner-Theatre at it's funniest.\n\nYes Prime Minister\, the brilliantly witty BBC comedy described as 'hilarity in the corridors of power' is set to be staged in Orange  at the Ambassador Best Western Orange.  Boxboards Theatre prides itself in creating the world of your favourite British TV shows.\n\nBoxboards Theatre has been performing in the Blue Mountains and Sydney for the last twenty-four years and have recently relocated to Orange- the Colour City!\n\nFrom the moment the audience arrives they are emersed in the world of the show. Having been met at the door by Sir Humphrey Appelby and Bernard Wooley\, guests prepare for a meeting the Prime Minister- Jim Hacker! Of course\, nothing goes smoothly in politics and when the Kumranistan Ambassador arrives the guests are treated to a serving of political hijinx!
LOCATION:\, 171 Bathurst Road\, Orange\, NSW 2800\, NSW\, 2800
RRULE:FREQ=DAILY;INTERVAL=1;UNTIL=20260424T000000Z
END:VEVENT
END:VCALENDAR
