BEGIN:VCALENDAR
VERSION:2.0
PRODID:-//My Community Diary//iCal Event//EN
CALSCALE:GREGORIAN
METHOD:PUBLISH
BEGIN:VEVENT
UID:f9d04900-0d32-4f81-a667-2df419a6de3c
DTSTAMP:20260422T052221Z
DTSTART;VALUE=DATE:20261029
DTEND;VALUE=DATE:20261030
SUMMARY:Yanco Village Markets
DESCRIPTION:Yanco Village Markets are on the last Sunday of the month.\n\nThey are held in the Yanco Community Hall and feature handmade crafts\, jewellery\, baked goods\, candles\, plants\, fruit and vegetables\, bric-a-brac\, and much more. Get in early to bag a bargain!
LOCATION:\, Main Avenue\, Yanco\, NSW 2703\, NSW\, 2703
RRULE:FREQ=DAILY;INTERVAL=1;UNTIL=20261031T000000Z
END:VEVENT
END:VCALENDAR
