BEGIN:VCALENDAR
VERSION:2.0
PRODID:-//My Community Diary//iCal Event//EN
CALSCALE:GREGORIAN
METHOD:PUBLISH
BEGIN:VEVENT
UID:74490893-f8e9-48b1-b3ee-b1dc415d4f3f
DTSTAMP:20260422T020252Z
DTSTART;VALUE=DATE:20260529
DTEND;VALUE=DATE:20260530
SUMMARY:Yanco Village Markets
DESCRIPTION:Yanco Village Markets are on the last Sunday of the month.\n\nThey are held in the Yanco Community Hall and feature handmade crafts\, jewellery\, baked goods\, candles\, plants\, fruit and vegetables\, bric-a-brac\, and much more. Get in early to bag a bargain!
LOCATION:\, Main Avenue\, Yanco\, NSW 2703\, NSW\, 2703
RRULE:FREQ=DAILY;INTERVAL=1;UNTIL=20260531T000000Z
END:VEVENT
END:VCALENDAR
