BEGIN:VCALENDAR
VERSION:2.0
PRODID:-//My Community Diary//iCal Event//EN
CALSCALE:GREGORIAN
METHOD:PUBLISH
BEGIN:VEVENT
UID:364992a2-c587-4a76-b92b-043df2f5b961
DTSTAMP:20260421T222618Z
DTSTART;VALUE=DATE:20260429
DTEND;VALUE=DATE:20260430
SUMMARY:Yanco Village Markets
DESCRIPTION:Yanco Village Markets are on the last Sunday of the month.\n\nThey are held in the Yanco Community Hall and feature handmade crafts\, jewellery\, baked goods\, candles\, plants\, fruit and vegetables\, bric-a-brac\, and much more. Get in early to bag a bargain!
LOCATION:\, Main Avenue\, Yanco\, NSW 2703\, NSW\, 2703
RRULE:FREQ=DAILY;INTERVAL=1;UNTIL=20260501T000000Z
END:VEVENT
END:VCALENDAR
