BEGIN:VCALENDAR
VERSION:2.0
PRODID:-//My Community Diary//iCal Event//EN
CALSCALE:GREGORIAN
METHOD:PUBLISH
BEGIN:VEVENT
UID:405bfcb4-7288-4887-8ddb-f9228a8b2818
DTSTAMP:20260422T021058Z
DTSTART;VALUE=DATE:20260905
DTEND;VALUE=DATE:20260906
SUMMARY:X-Marathon Adventure Race
DESCRIPTION:Embark on a thrilling new chapter as the X-Marathon adventure race takes on an exhilarating transformation\, unfolding against the breathtaking backdrop of Lake Macquarie.\n\nX-Marathon is a classic adventure race\, open for teams of two and four\, since 2011. Three courses are on offer - Mini (4 hours)\, Half (12 hours) and Full (24 hours). You will navigate your way between checkpoints using a map and ca ompass only.\n\nX-Marathon involves a non-stop navigation-based adventure race with plenty of mental and physical challenges for ultimate adventure racers.\n\nThis is a fully supported 24/12/4 hour adventure race for teams of four\, premier category- Mixed\; Female and Male categories. Three courses: Full - approximately 120 kilometres\, Half - about 80 kilometres and Mini- about 25 kilometres. Disciplines: trekking\, river and lake paddle (kayaking equipment is supplied)\, mountain biking -all navigation-based.\n\nEntry Cost\nAll tickets $109 
LOCATION:\, Killcare\, NSW 2257\, NSW\, 2257
RRULE:FREQ=DAILY;INTERVAL=1;UNTIL=20260907T000000Z
END:VEVENT
END:VCALENDAR
