BEGIN:VCALENDAR
VERSION:2.0
PRODID:-//My Community Diary//iCal Event//EN
CALSCALE:GREGORIAN
METHOD:PUBLISH
BEGIN:VEVENT
UID:3efb1d82-1dad-4d46-b25e-f42e6c6bb1bb
DTSTAMP:20260422T002836Z
DTSTART;VALUE=DATE:20260530
DTEND;VALUE=DATE:20260531
SUMMARY:Wright and Grainger's Selene
DESCRIPTION:From the internationally award winning team behind Orpheus comes a new sibling show to the hugely acclaimed Helios\, Wright and Grainger's Selene.\n\nA young girl is watching the moon landings on repeat\,\nA bunch of teenagers are swimming under a lunar eclipse\, A mismatched couple are watching a horror film at a drive in cinema.\n\nSelene is a radical exploding of an ancient myth. It's about how we grow up living defined by our bodies\, and about what happens when that changes. It's a story about what we're stuck in the orbit of. It's a story about the light sides of us and the dark sides of us\, all the wild stuff inside of us.\n\nEntry Cost\nAll tickets $30  - $35 for General Admission\n$30 for Concession Card Holders
LOCATION:\, 141 Mann Street\, Gosford\, NSW 2250\, NSW\, 2250
END:VEVENT
END:VCALENDAR
