BEGIN:VCALENDAR
VERSION:2.0
PRODID:-//My Community Diary//iCal Event//EN
CALSCALE:GREGORIAN
METHOD:PUBLISH
BEGIN:VEVENT
UID:f53ee5eb-4bca-49d7-9d74-9574189f5ce9
DTSTAMP:20260421T224158Z
DTSTART;VALUE=DATE:20260722
DTEND;VALUE=DATE:20260723
SUMMARY:World Aquatics World Cup Finals
DESCRIPTION:The world's top eight men's and women's national water polo teams will compete for the  World Aquatics Water Polo World Cup crowns in Sydney\, Australia. \n\nSydney\, the capital of New South Wales and Australia's largest city\, will host the event for the first time. A fabulous host of the 2000 Olympic Games\, Sydney last welcomed a global aquatics event in 2011.
LOCATION:\, 9 Olympic Boulevard\, Sydney Olympic Park\, NSW 2127\, NSW\, 2127
RRULE:FREQ=DAILY;INTERVAL=1;UNTIL=20260724T000000Z
END:VEVENT
END:VCALENDAR
