BEGIN:VCALENDAR
VERSION:2.0
PRODID:-//My Community Diary//iCal Event//EN
CALSCALE:GREGORIAN
METHOD:PUBLISH
BEGIN:VEVENT
UID:798a4402-ed0d-42a0-9869-f0fa66a65d3d
DTSTAMP:20260422T013735Z
DTSTART;VALUE=DATE:20261015
DTEND;VALUE=DATE:20261016
SUMMARY:Workshop: Life Drawing
DESCRIPTION:Get creative at MAMA's monthly\, informal Life Drawing program after-hours.\n\nLocated in their MAMA Studio\, sessions will be held monthly on a Thursday evening.\n\nThese sessions are untutored and are open to all levels\, from first-timers to experienced artists.\n\nThey use a diverse range of bodies and gender identities for their life drawing sessions. All clothing is removed by the model for the duration of the session.\n\nFor mature ages 18+ only. All materials provided.
LOCATION:\, 546 Dean Street\, Albury\, NSW 2640\, NSW\, 2640
RRULE:FREQ=DAILY;INTERVAL=1;UNTIL=20261017T000000Z
END:VEVENT
END:VCALENDAR
