BEGIN:VCALENDAR
VERSION:2.0
PRODID:-//My Community Diary//iCal Event//EN
CALSCALE:GREGORIAN
METHOD:PUBLISH
BEGIN:VEVENT
UID:0f2d7f68-1b0e-4e21-9f01-5ddefab4eb31
DTSTAMP:20260422T002952Z
DTSTART;VALUE=DATE:20260509
DTEND;VALUE=DATE:20260510
SUMMARY:Wollundry Saturday Markets
DESCRIPTION:Come along to the Wollundry Saturday Markets in the heart of Wagga at the second Saturday of each month.\n\nWith over 30 stallholders\, including a variety of food purveyors\, fruit and vegetables\, and homewares\, there is much to choose from. You can grab a great egg and bacon roll and a hot beverage while you're here.\n\nThere is plenty of room to relax and listen to local musicians while enjoying the atmosphere.\n\nCome join them and while you're here maybe drop in a gold coin donation to help their Rotary Club support their community.
LOCATION:\, Tarcutta Street\, Wagga Wagga\, NSW 2650\, NSW\, 2650
RRULE:FREQ=DAILY;INTERVAL=1;UNTIL=20260511T000000Z
END:VEVENT
END:VCALENDAR
