BEGIN:VCALENDAR
VERSION:2.0
PRODID:-//My Community Diary//iCal Event//EN
CALSCALE:GREGORIAN
METHOD:PUBLISH
BEGIN:VEVENT
UID:23afd154-b0eb-4ace-91ea-e0d775d97e1c
DTSTAMP:20260422T013710Z
DTSTART;VALUE=DATE:20260516
DTEND;VALUE=DATE:20260517
SUMMARY:Wings Over Shellharbour
DESCRIPTION:Wings Over Shellharbour takes place in the stunning Illawarra region on the NSW South Coast\, just over an hour south of Sydney. Set against the breathtaking Illawarra escarpment\, this much-loved event is Australia's premier regional airshow — and the only major airshow experience within such easy reach of Sydney.\n\nGet ready to feel the adrenaline! Enjoy spectacular flying displays\, wander among historic\, military\, modern and aerobatic aircraft on the ground\, and soak up an unforgettable family day out filled with amusement rides\, market stalls and great dining options.\n\nFrom world-class aerobatics to legendary warbirds\, Wings Over Shellharbour is packed with extraordinary aircraft to see up close\, alongside an action-packed weekend of thrilling performances in the sky.\n\nAnd the excitement doesn't stop there! On the ground\, you'll find live entertainment\, delicious food and beverages\, plenty of kids' rides and activities\, and the incredible HARS Aviation Museum to explore. You can even jump into high-energy flight simulators and put your piloting skills to the test!
LOCATION:\, Airport Road Albion\, Albion Park Rail\, NSW 2527\, NSW\, 2527
RRULE:FREQ=DAILY;INTERVAL=1;UNTIL=20260518T000000Z
END:VEVENT
END:VCALENDAR
