BEGIN:VCALENDAR
VERSION:2.0
PRODID:-//My Community Diary//iCal Event//EN
CALSCALE:GREGORIAN
METHOD:PUBLISH
BEGIN:VEVENT
UID:db4fb949-4ce7-4cc5-b5e3-aef2326a6f4d
DTSTAMP:20260422T021952Z
DTSTART;VALUE=DATE:20260809
DTEND;VALUE=DATE:20260810
SUMMARY:Windsor Mall Sunday Market
DESCRIPTION:Windsor Mall Sunday Market – Your Sunday Destination for Local Treasures!\n\nStep into the charm of Windsor Mall Sunday Market\, where the historic streets of Windsor come alive every Sunday with a vibrant mix of stalls\, food\, and community fun! This weekly event is all about celebrating local talent\, small businesses\, and the warm community vibe everyone loves.\n\nDiscover handmade crafts\, artisan creations\, vintage finds\, homewares\, fresh produce\, and gourmet eats – all in one place. Meet passionate local stallholders\, pick up unique gifts\, and enjoy a beautiful Sunday morning in the heart of historic Windsor.\n\nThe market isn't just for shopping – it's a community experience! Live music and family-friendly activities make it the perfect outing for everyone.\n\nAt AMA Markets\, they're passionate about bringing locals together. The Windsor Mall Sunday Market is a place to connect\, support small businesses\, and soak up the vibrant atmosphere. Expect to see local performers\, pop-up workshops\, and interactive experiences that make every Sunday unique.\n\nWhether you're here for the unique stalls\, the buzzing vibe\, or just a lazy Sunday stroll\, Windsor Mall Sunday Market is the place to be!
LOCATION:\, George Street\, Windsor\, NSW 2756\, NSW\, 2756
RRULE:FREQ=DAILY;INTERVAL=1;UNTIL=20260811T000000Z
END:VEVENT
END:VCALENDAR
