BEGIN:VCALENDAR
VERSION:2.0
PRODID:-//My Community Diary//iCal Event//EN
CALSCALE:GREGORIAN
METHOD:PUBLISH
BEGIN:VEVENT
UID:844f39f8-51aa-43f6-b34c-77ea4e629c30
DTSTAMP:20260422T035736Z
DTSTART;VALUE=DATE:20260607
DTEND;VALUE=DATE:20260608
SUMMARY:Willans Hill Miniature Railway Rides
DESCRIPTION:Situated in the Botanic Gardens\, the model railway runs through the garden and features an authentic station and booking office. The track runs through woodlands\, a tunnel and over a bridge.\n\nThe railway was established in 1978 by Raymond Catts\, who advertised for interested persons to form a club for the display and use of models.\n\nPublic Run Days are operating on the first and third Sundays of the month. Tickets can be purchased from the Ticket Window.\n\nEntry Cost\nAll tickets $5  - Tickets can be purchased from the Ticket Window at the station.
LOCATION:\, Macleay Street\, Wagga Wagga\, NSW 2650\, NSW\, 2650
RRULE:FREQ=DAILY;INTERVAL=1;UNTIL=20260609T000000Z
END:VEVENT
END:VCALENDAR
