BEGIN:VCALENDAR
VERSION:2.0
PRODID:-//My Community Diary//iCal Event//EN
CALSCALE:GREGORIAN
METHOD:PUBLISH
BEGIN:VEVENT
UID:00a62ffa-15e2-4501-b042-109f4f414c50
DTSTAMP:20260421T225728Z
DTSTART;VALUE=DATE:20260707
DTEND;VALUE=DATE:20260708
SUMMARY:Wheelchair AFL
DESCRIPTION:Wheelchair Sports NSW/ACT's Mission is to change the lives of people living with a disability through participation in Sports. \n\nAnnouncing the launch of a Wheelchair AFL hub.\n\nAnyone can play wheelchair AFL\, an adaptive sport that anyone can play\; it offers an excellent opportunity for everyone to engage\, have fun\, and try something new.
LOCATION:\, Morgan St\, Wagga Wagga\, NSW 2650\, NSW\, 2650
RRULE:FREQ=DAILY;INTERVAL=1;UNTIL=20260709T000000Z
END:VEVENT
END:VCALENDAR
