BEGIN:VCALENDAR
VERSION:2.0
PRODID:-//My Community Diary//iCal Event//EN
CALSCALE:GREGORIAN
METHOD:PUBLISH
BEGIN:VEVENT
UID:f67acd63-9953-4851-a1ba-f499e3d9090c
DTSTAMP:20260421T224146Z
DTSTART;VALUE=DATE:20261115
DTEND;VALUE=DATE:20261116
SUMMARY:Wharf Bar and Restaurant Sunday Sessions
DESCRIPTION:Soak up the weekend with live music every Sunday afteroon at the Wharf Bar and Restaurant. Enjoy great tunes\, delicious food\, and stunning sunset views.
LOCATION:\, 12-24 Fawcett St\, Ballina\, NSW 2478\, NSW\, 2478
RRULE:FREQ=DAILY;INTERVAL=1;UNTIL=20261117T000000Z
END:VEVENT
END:VCALENDAR
