BEGIN:VCALENDAR
VERSION:2.0
PRODID:-//My Community Diary//iCal Event//EN
CALSCALE:GREGORIAN
METHOD:PUBLISH
BEGIN:VEVENT
UID:07d6be95-81fe-42ee-9d05-09aa04af60e0
DTSTAMP:20260422T141353Z
DTSTART;VALUE=DATE:20261025
DTEND;VALUE=DATE:20261026
SUMMARY:Wharf Bar and Restaurant Sunday Sessions
DESCRIPTION:Soak up the weekend with live music every Sunday afteroon at the Wharf Bar and Restaurant. Enjoy great tunes\, delicious food\, and stunning sunset views.
LOCATION:\, 12-24 Fawcett St\, Ballina\, NSW 2478\, NSW\, 2478
RRULE:FREQ=DAILY;INTERVAL=1;UNTIL=20261027T000000Z
END:VEVENT
END:VCALENDAR
