BEGIN:VCALENDAR
VERSION:2.0
PRODID:-//My Community Diary//iCal Event//EN
CALSCALE:GREGORIAN
METHOD:PUBLISH
BEGIN:VEVENT
UID:e6814a1f-bbfb-44b7-b083-7dc15e6d3ceb
DTSTAMP:20260422T003009Z
DTSTART;VALUE=DATE:20260823
DTEND;VALUE=DATE:20260824
SUMMARY:Wharf Bar and Restaurant Sunday Sessions
DESCRIPTION:Soak up the weekend with live music every Sunday afteroon at the Wharf Bar and Restaurant. Enjoy great tunes\, delicious food\, and stunning sunset views.
LOCATION:\, 12-24 Fawcett St\, Ballina\, NSW 2478\, NSW\, 2478
RRULE:FREQ=DAILY;INTERVAL=1;UNTIL=20260825T000000Z
END:VEVENT
END:VCALENDAR
