BEGIN:VCALENDAR
VERSION:2.0
PRODID:-//My Community Diary//iCal Event//EN
CALSCALE:GREGORIAN
METHOD:PUBLISH
BEGIN:VEVENT
UID:d3ccc31e-63d5-4e5e-bf5b-325c0acab28b
DTSTAMP:20260422T022000Z
DTSTART;VALUE=DATE:20260524
DTEND;VALUE=DATE:20260525
SUMMARY:Wharf Bar and Restaurant Sunday Sessions
DESCRIPTION:Soak up the weekend with live music every Sunday afteroon at the Wharf Bar and Restaurant. Enjoy great tunes\, delicious food\, and stunning sunset views.
LOCATION:\, 12-24 Fawcett St\, Ballina\, NSW 2478\, NSW\, 2478
RRULE:FREQ=DAILY;INTERVAL=1;UNTIL=20260526T000000Z
END:VEVENT
END:VCALENDAR
