BEGIN:VCALENDAR
VERSION:2.0
PRODID:-//My Community Diary//iCal Event//EN
CALSCALE:GREGORIAN
METHOD:PUBLISH
BEGIN:VEVENT
UID:81774d95-ca02-4fbb-848f-59e462278a64
DTSTAMP:20260422T123226Z
DTSTART;VALUE=DATE:20260426
DTEND;VALUE=DATE:20260427
SUMMARY:Wharf Bar and Restaurant Sunday Sessions
DESCRIPTION:Soak up the weekend with live music every Sunday afteroon at the Wharf Bar and Restaurant. Enjoy great tunes\, delicious food\, and stunning sunset views.
LOCATION:\, 12-24 Fawcett St\, Ballina\, NSW 2478\, NSW\, 2478
RRULE:FREQ=DAILY;INTERVAL=1;UNTIL=20260428T000000Z
END:VEVENT
END:VCALENDAR
