BEGIN:VCALENDAR
VERSION:2.0
PRODID:-//My Community Diary//iCal Event//EN
CALSCALE:GREGORIAN
METHOD:PUBLISH
BEGIN:VEVENT
UID:c429ccf3-28b2-4a37-8209-22c40005de37
DTSTAMP:20260424T155450Z
DTSTART:20201217T080000Z
DTEND:20201217T170000Z
SUMMARY:Optometry - Childers
DESCRIPTION:Franz Felfer Optometrist at Allied Health Rooms Childers. Please confirm precise times with the service provider. Please contact 0418 799 009 or franzfelfer@hotmail.com for more information about this visiting service.
LOCATION:\, 2 Ashby Lane\, Childers\, QLD\, 4660\, QLD\, 4660
END:VEVENT
END:VCALENDAR
