BEGIN:VCALENDAR
VERSION:2.0
PRODID:-//My Community Diary//iCal Event//EN
CALSCALE:GREGORIAN
METHOD:PUBLISH
BEGIN:VEVENT
UID:129a8c80-0aca-4763-aa3f-2950ad6c5de4
DTSTAMP:20260421T205545Z
DTSTART;VALUE=DATE:20260425
DTEND;VALUE=DATE:20260426
SUMMARY:Weekend Workshop Bandicoot Pottery Studio
DESCRIPTION:Join this pottery class workshop and learn hand-building and wheelwork in a positive environment filled with imagination\, creativity and fun.\n\nIf you're interested in learning how to hand-build or how to use the wheel\, this is the perfect place to start. You will learn the fundamentals of hand-building\, including pinching\, coiling\, and slab construction. On the wheel is wedging and throwing strong forms\, including bowls and cups.
LOCATION:\, 240 Tyrrells Road\, Cobargo\, NSW 2550\, NSW\, 2550
RRULE:FREQ=DAILY;INTERVAL=1;UNTIL=20260427T000000Z
END:VEVENT
END:VCALENDAR
