BEGIN:VCALENDAR
VERSION:2.0
PRODID:-//My Community Diary//iCal Event//EN
CALSCALE:GREGORIAN
METHOD:PUBLISH
BEGIN:VEVENT
UID:9d558428-d825-42a1-8000-5b491d0bb288
DTSTAMP:20260423T102935Z
DTSTART;VALUE=DATE:20261007
DTEND;VALUE=DATE:20261008
SUMMARY:Wednesday Pickers Bazaar
DESCRIPTION:An established mid week Trash and Treasure market. Come along and check out what Sydney has stored up and ready for sale. Grab a bargain and a bite to eat with them!\n\nOne man's trash is absolutely another man's treasure!\n\n
LOCATION:\, 443 Smithfield Road\, Prairiewood\, NSW 2176\, NSW\, 2176
RRULE:FREQ=DAILY;INTERVAL=1;UNTIL=20261009T000000Z
END:VEVENT
END:VCALENDAR
