BEGIN:VCALENDAR
VERSION:2.0
PRODID:-//My Community Diary//iCal Event//EN
CALSCALE:GREGORIAN
METHOD:PUBLISH
BEGIN:VEVENT
UID:9d0f0e2e-4552-41d4-8900-28e8a55666e9
DTSTAMP:20260422T013823Z
DTSTART;VALUE=DATE:20260930
DTEND;VALUE=DATE:20261001
SUMMARY:Wednesday Pickers Bazaar
DESCRIPTION:An established mid week Trash and Treasure market. Come along and check out what Sydney has stored up and ready for sale. Grab a bargain and a bite to eat with them!\n\nOne man's trash is absolutely another man's treasure!\n\n
LOCATION:\, 443 Smithfield Road\, Prairiewood\, NSW 2176\, NSW\, 2176
RRULE:FREQ=DAILY;INTERVAL=1;UNTIL=20261002T000000Z
END:VEVENT
END:VCALENDAR
