BEGIN:VCALENDAR
VERSION:2.0
PRODID:-//My Community Diary//iCal Event//EN
CALSCALE:GREGORIAN
METHOD:PUBLISH
BEGIN:VEVENT
UID:673fc4e3-442d-4c7b-8dea-95f18dc30d97
DTSTAMP:20260421T222642Z
DTSTART;VALUE=DATE:20260729
DTEND;VALUE=DATE:20260730
SUMMARY:Wednesday Pickers Bazaar
DESCRIPTION:An established mid week Trash and Treasure market. Come along and check out what Sydney has stored up and ready for sale. Grab a bargain and a bite to eat with them!\n\nOne man's trash is absolutely another man's treasure!\n\n
LOCATION:\, 443 Smithfield Road\, Prairiewood\, NSW 2176\, NSW\, 2176
RRULE:FREQ=DAILY;INTERVAL=1;UNTIL=20260731T000000Z
END:VEVENT
END:VCALENDAR
