BEGIN:VCALENDAR
VERSION:2.0
PRODID:-//My Community Diary//iCal Event//EN
CALSCALE:GREGORIAN
METHOD:PUBLISH
BEGIN:VEVENT
UID:78172dc5-db4d-4025-8cd1-5fddf40d83a2
DTSTAMP:20260424T100726Z
DTSTART;VALUE=DATE:20260520
DTEND;VALUE=DATE:20260521
SUMMARY:Wednesday Pickers Bazaar
DESCRIPTION:An established mid week Trash and Treasure market. Come along and check out what Sydney has stored up and ready for sale. Grab a bargain and a bite to eat with them!\n\nOne man's trash is absolutely another man's treasure!\n\n
LOCATION:\, 443 Smithfield Road\, Prairiewood\, NSW 2176\, NSW\, 2176
RRULE:FREQ=DAILY;INTERVAL=1;UNTIL=20260522T000000Z
END:VEVENT
END:VCALENDAR
