BEGIN:VCALENDAR
VERSION:2.0
PRODID:-//My Community Diary//iCal Event//EN
CALSCALE:GREGORIAN
METHOD:PUBLISH
BEGIN:VEVENT
UID:a91b8c2b-bee2-428b-9edb-81fad2e71049
DTSTAMP:20260422T013825Z
DTSTART;VALUE=DATE:20260513
DTEND;VALUE=DATE:20260514
SUMMARY:Wednesday Pickers Bazaar
DESCRIPTION:An established mid week Trash and Treasure market. Come along and check out what Sydney has stored up and ready for sale. Grab a bargain and a bite to eat with them!\n\nOne man's trash is absolutely another man's treasure!\n\n
LOCATION:\, 443 Smithfield Road\, Prairiewood\, NSW 2176\, NSW\, 2176
RRULE:FREQ=DAILY;INTERVAL=1;UNTIL=20260515T000000Z
END:VEVENT
END:VCALENDAR
