BEGIN:VCALENDAR
VERSION:2.0
PRODID:-//My Community Diary//iCal Event//EN
CALSCALE:GREGORIAN
METHOD:PUBLISH
BEGIN:VEVENT
UID:1d94f6e6-0c83-4320-b06e-c6be7c7d3265
DTSTAMP:20260424T130246Z
DTSTART;VALUE=DATE:20260711
DTEND;VALUE=DATE:20260712
SUMMARY:Wean Picnic Races
DESCRIPTION:The Wean Picnic Races — a proud\, near-century-old country racing tradition — returns every year on the second Saturday of July in Wean\, NSW. Drawing racegoers from regional centres and coastal towns\, this authentic outback race day blends competitive horse racing\, live entertainment and colourful social gatherings beneath a true bush-racing sky.  \n\nMore than a sporting spectacle\, the Wean Picnic Races is a cornerstone community social that strengthens local connections and supports important regional causes. Recent years have seen record attendance and horse nominations\, highlighting its growth and enduring appeal. For sponsors\, this lively\, family-friendly event offers exceptional exposure to a loyal\, diverse audience that values tradition\, hospitality and regional pride.  \n\nSupport from local and regional partners helps secure the future of this much-loved event while generating goodwill across one of New South Wales' most connected rural communities. Join us in celebrating country racing\, community spirit and Wean's timeless outback charm—whether as a racegoer\, volunteer or sponsor.
LOCATION:\, 5155 Wean Road\, Boggabri\, NSW 2382\, NSW\, 2382
END:VEVENT
END:VCALENDAR
