BEGIN:VCALENDAR
VERSION:2.0
PRODID:-//My Community Diary//iCal Event//EN
CALSCALE:GREGORIAN
METHOD:PUBLISH
BEGIN:VEVENT
UID:94bdb5a0-9a63-4b64-bc8b-40a76f6651a0
DTSTAMP:20260422T035623Z
DTSTART;VALUE=DATE:20261017
DTEND;VALUE=DATE:20261018
SUMMARY:Wauchope Farmers Market
DESCRIPTION:Wauchope Farmers Market brings the growers\, makers\, bakers and creatives together on the fourth Saturday of every month at Wauchope Showgrounds.\n\nIt is the place where the city meets the bush.
LOCATION:\, 93a High Street\, Wauchope\, NSW 2446\, NSW\, 2446
RRULE:FREQ=DAILY;INTERVAL=1;UNTIL=20261019T000000Z
END:VEVENT
END:VCALENDAR
