BEGIN:VCALENDAR
VERSION:2.0
PRODID:-//My Community Diary//iCal Event//EN
CALSCALE:GREGORIAN
METHOD:PUBLISH
BEGIN:VEVENT
UID:3bfc4ca4-262a-4f34-ab3a-4f7e91319c2e
DTSTAMP:20260421T225643Z
DTSTART;VALUE=DATE:20260808
DTEND;VALUE=DATE:20260809
SUMMARY:Wauchope Farmers Market
DESCRIPTION:Wauchope Farmers Market brings the growers\, makers\, bakers and creatives together on the fourth Saturday of every month at Wauchope Showgrounds.\n\nIt is the place where the city meets the bush.
LOCATION:\, 93a High Street\, Wauchope\, NSW 2446\, NSW\, 2446
RRULE:FREQ=DAILY;INTERVAL=1;UNTIL=20260810T000000Z
END:VEVENT
END:VCALENDAR
