BEGIN:VCALENDAR
VERSION:2.0
PRODID:-//My Community Diary//iCal Event//EN
CALSCALE:GREGORIAN
METHOD:PUBLISH
BEGIN:VEVENT
UID:8025332d-77aa-4274-80e5-ff69972a2195
DTSTAMP:20260422T040728Z
DTSTART;VALUE=DATE:20260711
DTEND;VALUE=DATE:20260712
SUMMARY:Wauchope Farmers Market
DESCRIPTION:Wauchope Farmers Market brings the growers\, makers\, bakers and creatives together on the fourth Saturday of every month at Wauchope Showgrounds.\n\nIt is the place where the city meets the bush.
LOCATION:\, 93a High Street\, Wauchope\, NSW 2446\, NSW\, 2446
RRULE:FREQ=DAILY;INTERVAL=1;UNTIL=20260713T000000Z
END:VEVENT
END:VCALENDAR
