BEGIN:VCALENDAR
VERSION:2.0
PRODID:-//My Community Diary//iCal Event//EN
CALSCALE:GREGORIAN
METHOD:PUBLISH
BEGIN:VEVENT
UID:b094b685-4df8-4e37-90e6-ec00d9257219
DTSTAMP:20260422T052627Z
DTSTART;VALUE=DATE:20260530
DTEND;VALUE=DATE:20260531
SUMMARY:Wauchope Farmers Market
DESCRIPTION:Wauchope Farmers Market brings the growers\, makers\, bakers and creatives together on the fourth Saturday of every month at Wauchope Showgrounds.\n\nIt is the place where the city meets the bush.
LOCATION:\, 93a High Street\, Wauchope\, NSW 2446\, NSW\, 2446
RRULE:FREQ=DAILY;INTERVAL=1;UNTIL=20260601T000000Z
END:VEVENT
END:VCALENDAR
