BEGIN:VCALENDAR
VERSION:2.0
PRODID:-//My Community Diary//iCal Event//EN
CALSCALE:GREGORIAN
METHOD:PUBLISH
BEGIN:VEVENT
UID:14fdab55-38e6-4d2e-832f-0f23d7af06db
DTSTAMP:20260422T005118Z
DTSTART;VALUE=DATE:20260516
DTEND;VALUE=DATE:20260517
SUMMARY:Wauchope Farmers Market
DESCRIPTION:Wauchope Farmers Market brings the growers\, makers\, bakers and creatives together on the fourth Saturday of every month at Wauchope Showgrounds.\n\nIt is the place where the city meets the bush.
LOCATION:\, 93a High Street\, Wauchope\, NSW 2446\, NSW\, 2446
RRULE:FREQ=DAILY;INTERVAL=1;UNTIL=20260518T000000Z
END:VEVENT
END:VCALENDAR
