BEGIN:VCALENDAR
VERSION:2.0
PRODID:-//My Community Diary//iCal Event//EN
CALSCALE:GREGORIAN
METHOD:PUBLISH
BEGIN:VEVENT
UID:355ba83c-cb02-4975-8bf4-735f22144906
DTSTAMP:20260421T224316Z
DTSTART;VALUE=DATE:20260926
DTEND;VALUE=DATE:20260927
SUMMARY:Warialda Honey Festival
DESCRIPTION:One of the sweetest festivals of the year.  Traditionally held in March\, this year they are mixing it up and hosting the festival in September!!  And double the celebration! Buzzing with excitement for the annual Honey Festival\, this one is extra special as it falls on the same day as the Warialda Public School's 175th Anniversary. Come celebrate all things unique to Warialda\, share sweet school memories and commemorate the golden goodness of learning. Warialda Honey Festival includes local demonstrations and displays\, live music\, market stalls\, face painting\, bar facilities\, and an interactive circus play space and more! The Warialda Honey Festival is Warialda's flagship event attracting young and old from around the shire to celebrate all that is unique about their town.  \n\nFor a wonderful day out with family and friends be sure to save the date.\n\nThe whole of Warialda simply buzzes with energy when the Honey Festival comes around.
LOCATION:\, Green Space Park\, Warialda\, NSW 2402\, NSW\, 2402
END:VEVENT
END:VCALENDAR
