BEGIN:VCALENDAR
VERSION:2.0
PRODID:-//My Community Diary//iCal Event//EN
CALSCALE:GREGORIAN
METHOD:PUBLISH
BEGIN:VEVENT
UID:28b6314a-c63d-452e-a4ef-717e4cbcb7ef
DTSTAMP:20260421T224248Z
DTSTART;VALUE=DATE:20261010
DTEND;VALUE=DATE:20261011
SUMMARY:Wallarobba Hall Octoberfest
DESCRIPTION:Roll up and enjoy the fun and music at Oktoberfest to be held at Wallarobba Hall.\n\nEnjoy some delicious German food\, sausages\, sauerkraut\, goulash and plenty more. Beer\, wine\, and soft drinks are available as well as great cakes and strudels\, tea and coffee.\n\nThe events for the Sausage dog races are the Posh Dach the best dressed\, and the Flash Dach will be the fastest sausage dog across the tennis court with no leash\, conducted in heats depending on numbers.\n\nThere will also be the Smart Sausage which can do the best trick and an obstacle course around the tennis court for the Steeplechase on a leash\, great prizes and fun.\n\nOktoberfest is sure to be a great time in a lovely historical hall.
LOCATION:\, 740 Wallarobba-Brookfield Road\, Wallarobba\, NSW 2420\, NSW\, 2420
END:VEVENT
END:VCALENDAR
