BEGIN:VCALENDAR
VERSION:2.0
PRODID:-//My Community Diary//iCal Event//EN
CALSCALE:GREGORIAN
METHOD:PUBLISH
BEGIN:VEVENT
UID:76cc1955-de64-4293-a2e1-989a6854b603
DTSTAMP:20260422T004954Z
DTSTART;VALUE=DATE:20260906
DTEND;VALUE=DATE:20260907
SUMMARY:Waggaroos Orienteering Summer Series and Winter Series
DESCRIPTION:Waggaroos is an orienteering club with regular local events in bush and urban environments.  \n\nDuring the summer months the Club focuses on urban/street events in Wagga Wagga. Events are in the format of a score event using the MapRun app on your mobile phone. Competitors have 45 minutes to find as many controls as possible in any order.\n\nDuring the cooler months\, its focus is on bush events on maps located in and around Wagga and some that are 45 minutes drive from Wagga.\n\nOrienteering is a sport that combines outdoor adventure with map reading and navigational skills. It involves navigating through the bush\, parks\, or streets with the aid of a specially produced map and an orienteering compass\, with the aim being to locate checkpoints (controls) on various natural and man-made features along the way\, such as a boulder\, track junction\, bench seat or streetlamp.\n\nNew members are welcomed at all events with courses for all levels of experience will be available for all members of the family to enjoy. They are also offering four free Learn to Orienteer (LTO) lessons. \n\nVisit the Waggaroos website for details on the full year's event calendar\, start locations and event times.
LOCATION:\, Wagga Wagga\, NSW 2650\, NSW\, 2650
RRULE:FREQ=DAILY;INTERVAL=1;UNTIL=20260908T000000Z
END:VEVENT
END:VCALENDAR
