BEGIN:VCALENDAR
VERSION:2.0
PRODID:-//My Community Diary//iCal Event//EN
CALSCALE:GREGORIAN
METHOD:PUBLISH
BEGIN:VEVENT
UID:018fe76b-5f2f-4efd-a300-215ab96fda16
DTSTAMP:20260422T035635Z
DTSTART;VALUE=DATE:20260509
DTEND;VALUE=DATE:20260510
SUMMARY:Wagga Wagga Road Runners - Saturday Runs
DESCRIPTION:Wagga Wagga Road Runners club is a non-profit community group of families and individuals who engage in running and walking activities throughout the year. \n\nA major aim is to encourage runners and walkers of all abilities to enjoy exercising for fitness and health.\n\nSee their website for details on full year calendar run on locations and times.
LOCATION:\, Various Sites\, Wagga Wagga\, NSW 2650\, NSW\, 2650
RRULE:FREQ=DAILY;INTERVAL=1;UNTIL=20260511T000000Z
END:VEVENT
END:VCALENDAR
