BEGIN:VCALENDAR
VERSION:2.0
PRODID:-//My Community Diary//iCal Event//EN
CALSCALE:GREGORIAN
METHOD:PUBLISH
BEGIN:VEVENT
UID:4702ef9a-f958-4be4-bc9e-743cf80fea07
DTSTAMP:20260421T225557Z
DTSTART;VALUE=DATE:20260425
DTEND;VALUE=DATE:20260426
SUMMARY:Wagga Wagga Road Runners - Saturday Runs
DESCRIPTION:Wagga Wagga Road Runners club is a non-profit community group of families and individuals who engage in running and walking activities throughout the year. \n\nA major aim is to encourage runners and walkers of all abilities to enjoy exercising for fitness and health.\n\nSee their website for details on full year calendar run on locations and times.
LOCATION:\, Various Sites\, Wagga Wagga\, NSW 2650\, NSW\, 2650
RRULE:FREQ=DAILY;INTERVAL=1;UNTIL=20260427T000000Z
END:VEVENT
END:VCALENDAR
