BEGIN:VCALENDAR
VERSION:2.0
PRODID:-//My Community Diary//iCal Event//EN
CALSCALE:GREGORIAN
METHOD:PUBLISH
BEGIN:VEVENT
UID:d2f90248-0315-4780-b4f8-22d0407d3963
DTSTAMP:20260422T005116Z
DTSTART;VALUE=DATE:20260514
DTEND;VALUE=DATE:20260515
SUMMARY:Wagga Wagga Orchid Society Gathering
DESCRIPTION:The Wagga Wagga Orchid Society meets every month at the ARCC Hall. There are orchid displays each month\, together with raffles of plants\, demonstrations and general information.  Periodically throughout the year\, they have auctions of plants.\n\nThey warmly welcome visitors to Wagga Wagga who would like to gain knowledge on orchids\, or like-minded enthusiasts to join them.\n\nTea and biscuits are provided.
LOCATION:\, 131 Tarcutta Street\, Wagga Wagga\, NSW 2650\, NSW\, 2650
RRULE:FREQ=DAILY;INTERVAL=1;UNTIL=20260516T000000Z
END:VEVENT
END:VCALENDAR
