BEGIN:VCALENDAR
VERSION:2.0
PRODID:-//My Community Diary//iCal Event//EN
CALSCALE:GREGORIAN
METHOD:PUBLISH
BEGIN:VEVENT
UID:79a5aa2e-4df3-4afc-80d4-9fbc032d8cb0
DTSTAMP:20260422T002841Z
DTSTART;VALUE=DATE:20261213
DTEND;VALUE=DATE:20261214
SUMMARY:Wagga Wagga Country Music Club Events
DESCRIPTION:Wagga Wagga Country Music Club have local and guest artists who perform monthly at the Wagga Wagga RSL Club.\n\nPlease join them for these wonderful events\, showcasing many talented performers.
LOCATION:\, Kincaid Street & Dobbs Street\, Wagga Wagga\, NSW 2650\, NSW\, 2650
RRULE:FREQ=DAILY;INTERVAL=1;UNTIL=20261215T000000Z
END:VEVENT
END:VCALENDAR
