BEGIN:VCALENDAR
VERSION:2.0
PRODID:-//My Community Diary//iCal Event//EN
CALSCALE:GREGORIAN
METHOD:PUBLISH
BEGIN:VEVENT
UID:d73e8835-ccc6-4820-8513-355fa1639b23
DTSTAMP:20260421T211524Z
DTSTART;VALUE=DATE:20261115
DTEND;VALUE=DATE:20261116
SUMMARY:Wagga Wagga Country Music Club Events
DESCRIPTION:Wagga Wagga Country Music Club have local and guest artists who perform monthly at the Wagga Wagga RSL Club.\n\nPlease join them for these wonderful events\, showcasing many talented performers.
LOCATION:\, Kincaid Street & Dobbs Street\, Wagga Wagga\, NSW 2650\, NSW\, 2650
RRULE:FREQ=DAILY;INTERVAL=1;UNTIL=20261117T000000Z
END:VEVENT
END:VCALENDAR
