BEGIN:VCALENDAR
VERSION:2.0
PRODID:-//My Community Diary//iCal Event//EN
CALSCALE:GREGORIAN
METHOD:PUBLISH
BEGIN:VEVENT
UID:3a6c7d6e-7802-4e04-b970-d0fa95d7e23a
DTSTAMP:20260421T224109Z
DTSTART;VALUE=DATE:20260920
DTEND;VALUE=DATE:20260921
SUMMARY:Wagga Wagga Country Music Club Events
DESCRIPTION:Wagga Wagga Country Music Club have local and guest artists who perform monthly at the Wagga Wagga RSL Club.\n\nPlease join them for these wonderful events\, showcasing many talented performers.
LOCATION:\, Kincaid Street & Dobbs Street\, Wagga Wagga\, NSW 2650\, NSW\, 2650
RRULE:FREQ=DAILY;INTERVAL=1;UNTIL=20260922T000000Z
END:VEVENT
END:VCALENDAR
