BEGIN:VCALENDAR
VERSION:2.0
PRODID:-//My Community Diary//iCal Event//EN
CALSCALE:GREGORIAN
METHOD:PUBLISH
BEGIN:VEVENT
UID:89f60174-334f-44b1-9a64-af011fa8bc1e
DTSTAMP:20260421T224105Z
DTSTART;VALUE=DATE:20260621
DTEND;VALUE=DATE:20260622
SUMMARY:Wagga Wagga Country Music Club Events
DESCRIPTION:Wagga Wagga Country Music Club have local and guest artists who perform monthly at the Wagga Wagga RSL Club.\n\nPlease join them for these wonderful events\, showcasing many talented performers.
LOCATION:\, Kincaid Street & Dobbs Street\, Wagga Wagga\, NSW 2650\, NSW\, 2650
RRULE:FREQ=DAILY;INTERVAL=1;UNTIL=20260623T000000Z
END:VEVENT
END:VCALENDAR
